BEGIN:VCALENDAR
VERSION:2.0
PRODID:-//Australian Medical Association (NSW) - ECPv5.0.2.1//NONSGML v1.0//EN
CALSCALE:GREGORIAN
METHOD:PUBLISH
X-WR-CALNAME:Australian Medical Association (NSW)
X-ORIGINAL-URL:https://www.amansw.com.au
X-WR-CALDESC:Events for Australian Medical Association (NSW)
BEGIN:VTIMEZONE
TZID:Australia/Sydney
BEGIN:STANDARD
TZOFFSETFROM:+1100
TZOFFSETTO:+1000
TZNAME:AEST
DTSTART:20190406T160000
END:STANDARD
BEGIN:DAYLIGHT
TZOFFSETFROM:+1000
TZOFFSETTO:+1100
TZNAME:AEDT
DTSTART:20191005T160000
END:DAYLIGHT
END:VTIMEZONE
BEGIN:VEVENT
DTSTART;TZID=Australia/Sydney:20190913T090000
DTEND;TZID=Australia/Sydney:20190913T123000
DTSTAMP:20200301T172343
CREATED:20190218T055029Z
LAST-MODIFIED:20190829T051919Z
UID:5725-1568365200-1568377800@www.amansw.com.au
SUMMARY:Employer Essentials: Contracts and Fair Work Act Compliance - Rydges Cronulla Beachside
DESCRIPTION:[vc_row][vc_column][vc_column_text] \n[/vc_column_text][/vc_column][/vc_row][vc_row][vc_column width="2/3"][vc_row_inner][vc_column_inner][vc_column_text][/vc_column_text][/vc_column_inner][/vc_row_inner][vc_row_inner][vc_column_inner][vc_empty_space][vc_column_text]Who should attend? \nAny doctors (or their practice managers) who: \n\nemploy staff directly or are involved in staffing decisions for their practice (with or without a practice manager);\nintend to hire new staff or renegotiate any new staff contracts/arrangements soon;\nhaven’t reviewed their employees’ contracts for a while (or who don’t have any in place); and/or\naren’t aware of their compliance obligations under the Fair Work Act and/or Modern Awards.\n\nParticipants will: \n\nLearn about the key risks for practice principals under the Fair Work Act\, including personal liability for civil penalties (eg\, for sole trader doctors\, company directors\, key decision makers and anyone else ‘involved in’ breaches of the Act or Awards);\nIdentify key strategies for managing those risks\, including identifying the key compliance obligations under the Fair Work Act\, and assessing whether or how their own practice meets them;\nLearn how to read\, understand and comply with the two key Modern Awards that apply to employed practice staff; and\nReview and discuss AMA (NSW)’s suite of contracts for private practice employees\, including:\n\nhow they help protect your practice\nhow to access them\nwhat they say (and why)\nwhich one to choose (and when)\nhow to implement them in a manner appropriate for your practice\nthe importance of ongoing review of contracts.\n\n\n\nOther dates / venues for this seminar: \n\nFriday\, 5 April 2019 – Magenta\nFriday\, 17 May 2019 – St Leonards\nFriday\, 16 August 2019 – Penrith area\n\nPlease note: \n\nThere is a refundable $50 booking fee for this event for AMA (NSW) Members. Your credit card will be deducted at the time of booking but you will receive a refund 3-5 days after your attendance. You will also receive a refund if you cancel up to 3 days before the workshop (ie earlier than 5:00 pm on Tuesday\, 10 September 2019).\nCancellations can be made via phone to AMA (NSW) Event Coordinator Jenni Noble on 9902 8140 or email events@amansw.com.au\nRefunds will not be provided if you do not let us know you will not be attending or advise us after 5:00 pm on Tuesday\, 10 September 2019.\nThis event will only proceed if we reach a viable number of registrations prior to Friday 6 September 2019. Should the event not proceed because of low registration numbers\, all payments will be refunded. Please contact us before booking non-refundable / non-transferable flights or accommodation.\n\n[/vc_column_text][vc_empty_space][/vc_column_inner][/vc_row_inner][/vc_column][vc_column width="1/3"][vc_row_inner][vc_column_inner][vc_column_text] \nDate / Time\nFriday\, 13 September 2019 \n9:00am - 12:30pm[/vc_column_text][/vc_column_inner][/vc_row_inner][vc_row_inner][vc_column_inner][vc_column_text] \nVenue\nBotany Room\nRydges Cronulla Beachside \n20/26 Kingsway\nCronulla\nNSW 2230[/vc_column_text][/vc_column_inner][/vc_row_inner][vc_row_inner][vc_column_inner][vc_column_text] \nCost\nAMA (NSW) Member: $50 (deposit refundable upon attendance)\nNon-member: $300[/vc_column_text][/vc_column_inner][/vc_row_inner][vc_row_inner][vc_column_inner][vc_column_text] \nBuy Tickets[/vc_column_text][/vc_column_inner][/vc_row_inner][/vc_column][/vc_row] \n
URL:https://www.amansw.com.au/event/employer-essentials-contracts-and-fair-work-act-compliance-st-george-sutherland-area/
LOCATION:Rydges Cronulla Beachside\, 20/26 Kingsway\, Cronulla\, NSW\, 2230\, Australia
ATTACH;FMTTYPE=image/jpeg:https://www.amansw.com.au/wp-content/uploads/2019/02/0480-Contracts-and-Fair-work-Act-Compliance_website.jpg
ORGANIZER;CN="AMA%20NSW":MAILTO:events@amansw.com.au
END:VEVENT
END:VCALENDAR