BEGIN:VCALENDAR
VERSION:2.0
PRODID:-//Australian Medical Association (NSW) - ECPv5.0.2.1//NONSGML v1.0//EN
CALSCALE:GREGORIAN
METHOD:PUBLISH
X-WR-CALNAME:Australian Medical Association (NSW)
X-ORIGINAL-URL:https://www.amansw.com.au
X-WR-CALDESC:Events for Australian Medical Association (NSW)
BEGIN:VTIMEZONE
TZID:Australia/Sydney
BEGIN:STANDARD
TZOFFSETFROM:+1100
TZOFFSETTO:+1000
TZNAME:AEST
DTSTART:20200404T160000
END:STANDARD
BEGIN:DAYLIGHT
TZOFFSETFROM:+1000
TZOFFSETTO:+1100
TZNAME:AEDT
DTSTART:20201003T160000
END:DAYLIGHT
END:VTIMEZONE
BEGIN:VEVENT
DTSTART;TZID=Australia/Sydney:20200212T183000
DTEND;TZID=Australia/Sydney:20200212T203000
DTSTAMP:20200301T172713
CREATED:20200109T021137Z
LAST-MODIFIED:20200109T021235Z
UID:7181-1581532200-1581539400@www.amansw.com.au
SUMMARY:Salary Packaging Seminar
DESCRIPTION:[vc_row][vc_column][vc_column_text] \n[/vc_column_text][/vc_column][/vc_row][vc_row][vc_column width="2/3"][vc_row_inner][vc_column_inner][vc_column_text][/vc_column_text][/vc_column_inner][/vc_row_inner][vc_row_inner][vc_column_inner][vc_empty_space][vc_column_text]We understand that transitioning from study to full time work can be daunting and this seminar will explain how to get you off to the best possible financial start\, it could mean thousands of extra dollars in your pocket. \nAimed at interns\, this seminar will cover: \n\nWhat is Salary Packaging & Meal Entertainment Benefit?\nHow it works and how it can save you thousands of dollars?\nTop tips to get you financially ready for work\n\nThe team of experts will provide you the knowledge which you need to know about Salary Packaging and key financial matters as you embark on your medical careers. \nRegister now to secure your place or contact us for more information. \nThis event is brought to you by Specialist Wealth Group\, one of the AMA (NSW)'s Preferred Partners.[/vc_column_text][vc_empty_space][/vc_column_inner][/vc_row_inner][/vc_column][vc_column width="1/3"][vc_row_inner][vc_column_inner][vc_column_text] \nDate / Time\nWednesday\, 12 February 2020 \n6:30pm - 8:30pm[/vc_column_text][/vc_column_inner][/vc_row_inner][vc_row_inner][vc_column_inner][vc_column_text] \nVenue\nAMA House \nGround Floor Conference Centre\n69 Christie St\nSt Leonards[/vc_column_text][/vc_column_inner][/vc_row_inner][vc_row_inner][vc_column_inner][vc_column_text] \nCost\nAMA (NSW) Member: Free[/vc_column_text][/vc_column_inner][/vc_row_inner][vc_raw_html]JTNDc2NyaXB0JTIwdHlwZSUzRCUyMnRleHQlMkZqYXZhc2NyaXB0JTIyJTIwc3JjJTNEJTIyJTJGJTJGd3d3LnN0aWNreXRpY2tldHMuY29tLmF1JTJGc3RhdGljJTJGd2lkZ2V0cyUyRnYxJTJGYnV5LXRpY2tldHMtMS4wLjIuanMlMjIlM0UlM0MlMkZzY3JpcHQlM0UlMEElMEElM0NhJTIwcmVsJTNEJTIyc3RpY2t5dGlja2V0cy1idXktd2lkZ2V0JTIyJTIwdGFyZ2V0JTNEJTIyX3RvcCUyMiUyMHN0eWxlJTNEJTIyZGlzcGxheSUzQSUyMGJsb2NrJTNCJTIwbWFyZ2luJTNBJTIwMjVweCUyMGF1dG8lM0IlMjB0ZXh0LWFsaWduJTNBJTIwY2VudGVyJTIyJTIwaHJlZiUzRCUyMmh0dHBzJTNBJTJGJTJGd3d3LnN0aWNreXRpY2tldHMuY29tLmF1JTJGQVBUWEslMjIlM0UlM0NpbWclMjBhbHQlM0QlMjJTYWxhcnklMjBQYWNrYWdpbmclMjBTZW1pbmFyJTIyJTIwdGl0bGUlM0QlMjJTYWxhcnklMjBQYWNrYWdpbmclMjBTZW1pbmFyJTIyJTIwc3JjJTNEJTIyaHR0cHMlM0ElMkYlMkZkMTh1N2x1b3gyZGRlcS5jbG91ZGZyb250Lm5ldCUyRmxvZ29zJTJGbWVkaXVtJTJGbG9nb195b3VyX3BhcnRuZXJfeWVsbG93LnBuZyUyMiUyMGJvcmRlciUzRCUyMjAlMjIlM0UlM0NzcGFuJTIwc3R5bGUlM0QlMjJwYWRkaW5nJTNBJTIwNXB4JTNCJTIwZGlzcGxheSUzQSUyMGJsb2NrJTIyJTNFQnV5JTIwVGlja2V0cyUzQyUyRnNwYW4lM0UlM0MlMkZhJTNF[/vc_raw_html][/vc_column][/vc_row] \n
URL:https://www.amansw.com.au/event/salary-packaging-seminar-2020/
LOCATION:AMA House\, 69 Christie St\, St Leonards\, NSW\, Australia
ATTACH;FMTTYPE=image/jpeg:https://www.amansw.com.au/wp-content/uploads/2020/01/0512-Salary-Packaging-Event-website-1200-x-600px.jpg
ORGANIZER;CN="AMA%20NSW":MAILTO:events@amansw.com.au
END:VEVENT
END:VCALENDAR